BEGIN:VCALENDAR
VERSION:2.0
PRODID:-//ChamberMaster//Event Calendar 2.0//EN
METHOD:PUBLISH
X-PUBLISHED-TTL:P3D
REFRESH-INTERVAL:P3D
CALSCALE:GREGORIAN
BEGIN:VEVENT
DTSTART;VALUE=DATE:20210404
DTEND;VALUE=DATE:20210426
TRANSP:TRANSPARENT
X-MICROSOFT-CDO-ALLDAYEVENT:TRUE
SUMMARY:Big Sur Land Trust's Race for Open Space
DESCRIPTION:The Race for Open Space is a three week virtual/live hybrid event hosted in accordance with public health and safety guidelines. Dedicated to fostering an appreciation of natural spaces in Monterey County\, the Race for Open Space celebrates the health benefits of time spent in nature while providing an outlet for runners and walkers of all ages to find wonder among Monterey County's iconic landscapes. Funds raised support Big Sur Land Trust's work throughout Monterey County. People are encouraged to walk\, hike\, and run on their own or on Big Sur Land Trust's conserved lands in celebration of nature. Designated trail courses are available to race\, and participants are invited to log their miles towards a collective 10\,000-mile goal. Exclusive\, limited-capacity Adventure Courses on lands closed to the general public are available April 17\, 18\, and 24\, made possible through the partnership of Monterey Peninsula Regional Park District\, California State Parks\, and the Santa Lucia Conservancy.
X-ALT-DESC;FMTTYPE=text/html:The Race for Open Space is a three week virtual/live hybrid event hosted in accordance with public health and safety guidelines. Dedicated to fostering an appreciation of natural spaces in Monterey County\, the Race for Open Space celebrates the health benefits of time spent in nature while providing an outlet for runners and walkers of all ages to find wonder among Monterey County&rsquo\;s iconic landscapes. Funds raised support Big Sur Land Trust&#39\;s work throughout Monterey County. People are encouraged to walk\, hike\, and run on their own or on Big Sur Land Trust&#39\;s conserved lands in celebration of nature. Designated trail courses are available to race\, and participants are invited to log their miles towards a collective 10\,000-mile goal. Exclusive\, limited-capacity Adventure Courses on lands closed to the general public are available April 17\, 18\, and 24\, made possible through the partnership of Monterey Peninsula Regional Park District\, California State Parks\, and the Santa Lucia Conservancy.
LOCATION:-Virtual option: Run Anywhere - Big Sur Land Trust properties: Mitteldorf Preserve\, Glen Deven Ranch -Adventure Courses: Palo Corona Regional Park\, San Jose Creek Trail
UID:e.2711.6988
SEQUENCE:3
DTSTAMP:20260420T071305Z
URL:http://members.montereychamber.com/events/details/big-sur-land-trust-s-race-for-open-space-6988
END:VEVENT

END:VCALENDAR
