BEGIN:VCALENDAR
VERSION:2.0
PRODID:-//ChamberMaster//Event Calendar 2.0//EN
METHOD:PUBLISH
X-PUBLISHED-TTL:P3D
REFRESH-INTERVAL:P3D
CALSCALE:GREGORIAN
BEGIN:VEVENT
DTSTART:20221208T180000Z
DTEND:20221208T190000Z
X-MICROSOFT-CDO-ALLDAYEVENT:FALSE
SUMMARY:10 Warning Signs of Alzheimer's - LIVE VIRTUAL PRESENTATION
DESCRIPTION:Register and attend this FREE virtual seminar to learn about Alzheimer's and Dementia. Alzheimer's and other dementias cause changes in memory\, thinking and behavior that interfere with daily life. Join us to learn how to recognize common signs of the disease\; how to approach someone about memory concerns\; the importance of early detection and benefits of a diagnosis\; possible tests and assessments for the diagnostic process\, and Alzheimer's Association resources. Register https://action.alz.org/PersonifyEbusiness/Events/alz/MeetingDetails.aspx?productId=85169598 THIS MEETING WILL BE OFFERED BY PHONE AND ONLINE. Once you have completed registration for the meeting\, you will receive an email confirmation with the call-in information and instructions for joining our call. If you have additional questions or need further assistance\, please feel free to call the Alzheimer's Association at 800.272.3900.
X-ALT-DESC;FMTTYPE=text/html:Register and attend this FREE virtual seminar to learn about Alzheimer&rsquo\;s and Dementia. Alzheimer&#39\;s and other dementias cause changes in memory\, thinking and behavior that interfere with daily life. Join us to learn how to recognize common signs of the disease\; how to approach someone about memory concerns\; the importance of early detection and benefits of a diagnosis\; possible tests and assessments for the diagnostic process\, and Alzheimer&rsquo\;s Association resources. Register https://action.alz.org/PersonifyEbusiness/Events/alz/MeetingDetails.aspx?productId=85169598 THIS MEETING WILL BE OFFERED BY PHONE AND ONLINE. Once you have completed registration for the meeting\, you will receive an email confirmation with the call-in information and instructions for joining our call. If you have additional questions or need further assistance\, please feel free to call the Alzheimer&#39\;s Association at 800.272.3900.
LOCATION:ONLINE and by Telephone
UID:e.2711.7920
SEQUENCE:3
DTSTAMP:20260425T111454Z
URL:https://members.montereychamber.com/events/details/10-warning-signs-of-alzheimer-s-live-virtual-presentation-12-08-2022-7920
END:VEVENT

END:VCALENDAR
