BEGIN:VCALENDAR
VERSION:2.0
PRODID:-//ChamberMaster//Event Calendar 2.0//EN
METHOD:PUBLISH
X-PUBLISHED-TTL:P3D
REFRESH-INTERVAL:P3D
CALSCALE:GREGORIAN
BEGIN:VEVENT
DTSTART:20260307T020000Z
DTEND:20260307T050000Z
X-MICROSOFT-CDO-ALLDAYEVENT:FALSE
SUMMARY:16th Anniversary Celebration of First Friday Pacific Grove!
DESCRIPTION:Join us for an evening of Entertainment\, Enlightenment\, Enjoyment and Celebrating 16 years of First Friday Pacific Grove (2010-2026). Stop by the PG Art Center for 4 Gala Openings\, PG Museum of Natural History & enjoy the museum "after hours"\, Enjoy Loud & Local at the PG Meetinghouse\, Katherine Lavin Band at Monarch Pub\, Enjoy an exciting evening of trades and giveaways at Sharp Corners Cards & Collectibles on Cypress Ave\, Check out the Spring Art & arrivals at Artisana Gallery\, Local Artists on Grand Ave\, Plus\, enjoy an array of live music throughout downtown: Jazz\, Blues\, Folk\, Rock...
X-ALT-DESC;FMTTYPE=text/html:Join us for an evening of Entertainment\, Enlightenment\, Enjoyment and Celebrating 16 years of First Friday Pacific Grove (2010-2026). Stop by the PG Art Center for 4 Gala Openings\, PG Museum of Natural History &amp\; enjoy the museum &quot\;after hours&quot\;\, Enjoy Loud &amp\; Local at the PG Meetinghouse\, Katherine Lavin Band at Monarch Pub\, Enjoy an exciting evening of trades and giveaways at Sharp Corners Cards &amp\; Collectibles on Cypress Ave\, Check out the Spring Art &amp\; arrivals at Artisana Gallery\, Local Artists on Grand Ave\, Plus\, enjoy an array of live music throughout downtown: Jazz\, Blues\, Folk\, Rock...
LOCATION:Downtown Pacific Grove\, 612 Lighthouse Ave\, Pacific Grove\, CA 93950
UID:e.2711.15816
SEQUENCE:3
DTSTAMP:20260423T084758Z
URL:https://members.montereychamber.com/events/details/16th-anniversary-celebration-of-first-friday-pacific-grove-15816
END:VEVENT

END:VCALENDAR
