BEGIN:VCALENDAR
VERSION:2.0
PRODID:-//ChamberMaster//Event Calendar 2.0//EN
METHOD:PUBLISH
X-PUBLISHED-TTL:P3D
REFRESH-INTERVAL:P3D
CALSCALE:GREGORIAN
BEGIN:VEVENT
DTSTART:20260918T183000Z
DTEND:20260918T203000Z
X-MICROSOFT-CDO-ALLDAYEVENT:FALSE
SUMMARY:24th Annual Leadership Luncheon
DESCRIPTION:Presented by West Coast Community Bank\, our 24th Annual Leadership Luncheon gives community leaders\, local business owners and engaged citizens an opportunity to gain further insight into the current business climate on the Monterey Bay Region from an impressive panel of federal\, state and local elected officials.\n\n\n\nWe encourage you to bring new members of your organizations to come and learn about the many ways businesses contribute to our economy and community\, and how active engagement can make a difference.\n\nKeynote Speaker: TBD\n\nInvited Speakers\n\nMonterey County Supervisor Luis Alejo - District 1\n\nMonterey County Supervisor Glenn Church- District 2\n\nMonterey County Supervisor Chris Lopez - District 3\n\nMonterey County Supervisor Wendy Root-Askew - District 4\n\nMonterey County Supervisor Kate Daniels - District 5\n\nMayor Tyller Williamson-Monterey\n\nMayor Mary Anne Carbone - Sand City\n\nMayor Dennis Donohue - Salinas\n\nMayor Bruce Delgado - Marina\n\nMayor Scott Donaldson - Del Rey Oaks\n\nMayor Ian Oglesby - Seaside\n\nMayor Nick Smith- Pacific Grove\n\nMayor Dale Byrne - Carmel\n\nMonterey County Sheriff - Tina Nieto\n\nMonterey Airport Board Chair Danial Pick\n\n\n\n\n\n24th Annual Leadership Luncheon Menu: TBD
X-ALT-DESC;FMTTYPE=text/html:<p><span style="color: rgb(0\, 0\, 0)\; font-family: Poppins\; font-size: 18px\;">Presented by West Coast Community Bank\, our 24th Annual Leadership Luncheon gives community leaders\, local business owners and engaged citizens an opportunity to gain further insight into the current business climate on the Monterey Bay Region from an&nbsp\;impressive panel of federal\, state and local elected officials.</span></p>\n\n<p><br />\n<span style="color: rgb(0\, 0\, 0)\; font-family: Poppins\; font-size: 18px\;">We encourage you to bring new members of your organizations to come and learn about the many ways businesses contribute to our economy and community\, and how active engagement can make a difference.<br />\nKeynote Speaker: TBD<br />\nInvited Speakers<br />\nMonterey County Supervisor Luis Alejo - District 1<br />\nMonterey County Supervisor Glenn Church- District 2<br />\nMonterey County Supervisor Chris Lopez - District 3<br />\nMonterey County Supervisor Wendy Root-Askew&nbsp\;- District 4<br />\nMonterey County Supervisor Kate Daniels</span><span style="color: rgb(0\, 0\, 0)\; font-family: Poppins\; font-size: 18px\;">&nbsp\;- District 5<br />\nMayor Tyller Williamson-Monterey<br />\nMayor Mary Anne Carbone - Sand City<br />\nMayor Dennis Donohue&nbsp\;- Salinas<br />\nMayor Bruce Delgado - Marina<br />\nMayor Scott Donaldson - Del Rey Oaks<br />\nMayor Ian Oglesby - Seaside<br />\nMayor Nick Smith- Pacific Grove<br />\nMayor Dale Byrne&nbsp\;- Carmel<br />\nMonterey County Sheriff - Tina Nieto<br />\nMonterey Airport Board Chair Danial Pick</span><br />\n<br />\n<br />\n<strong>24th Annual Leadership Luncheon Menu</strong><span style="font-size: 12px\;"><strong><span style="font-family: &quot\;lato black&quot\;\, sans-serif\;">: TBD</span></strong></span></p>\n
LOCATION:Embassy Suites 1441 Canyon Del Rey Blvd Seaside\, CA
UID:e.2711.15868
SEQUENCE:3
DTSTAMP:20260422T113545Z
URL:https://members.montereychamber.com/events/details/24th-annual-leadership-luncheon-15868
END:VEVENT

END:VCALENDAR
