BEGIN:VCALENDAR
VERSION:2.0
PRODID:-//ChamberMaster//Event Calendar 2.0//EN
METHOD:PUBLISH
X-PUBLISHED-TTL:P3D
REFRESH-INTERVAL:P3D
CALSCALE:GREGORIAN
BEGIN:VEVENT
DTSTART:20260724T010000Z
DTEND:20260724T040000Z
X-MICROSOFT-CDO-ALLDAYEVENT:FALSE
SUMMARY:Annual Business Excellence Awards
DESCRIPTION:The Chamber's annual Business Excellence Awards (BEA) Dinner increases public awareness of the vital role business plays on the Central Coast and gives recognition to those businesses that have achieved excellence in their fields. 300-plus Peninsula business and community leaders attend to show their support for the local businesses that make up the backbone of our community. 2\,000-plus votes are cast by Chamber members as well as the general public\, and awards are presented to the top businesses in 16 categories.\n\n\n\nShowcase Your Business\n\nHistorically known as the Design-A-Table Contest\, our Design-A-Centerpiece Contest sponsorship gives members a fun and creative way to promote their businesses. In an effort to reduce waste and honor our commitment to protecting the Monterey Bay environment\, we made a few thoughtful changes.\n\nInstead of fully decorating an entire table\, participating businesses will be invited to provide a branded centerpiece and 10 guest gifts that highlight your business\, values\, and services. This shift not only reduces setup time and waste but also puts the focus where it belongs   on the excellence of your brand and its impact!\n\nWe know many of our members are navigating tighter budgets and smaller teams. These updates are designed to make participation more accessible\, meaningful\, and environmentally conscious\, while still keeping the spirit of celebration and creativity alive!\n\n\n\n                                                        \n\nMENU TBD
X-ALT-DESC;FMTTYPE=text/html:<span style="font-family: verdana\; font-size: 14px\;">The Chamber&#39\;s annual Business Excellence Awards (BEA) Dinner increases public awareness of the vital role business plays on the Central Coast and gives recognition to those businesses that have achieved excellence in their fields. 300-plus Peninsula business and community leaders attend to show their support for the local businesses that make up the backbone of our community. 2\,000-plus votes are cast by Chamber members as well as the general public\, and awards are presented to the top businesses in 16 categories.</span><br />\n<br />\n<span style="font-family: verdana\;"><span style="font-size: 14px\;"><strong><span style="color: black\;">Showcase Your Business</span></strong><br />\n<span style="color: black\;">Historically known as the&nbsp\;Design-A-Table Contest\, our Design-A-Centerpiece Contest sponsorship gives members a fun and creative way to promote their businesses. In an effort to reduce waste and honor our commitment to protecting the Monterey Bay environment\, we made a few thoughtful changes.</span><br />\n<span style="color: black\;">Instead of fully decorating an entire table\, participating businesses will be invited to&nbsp\;<strong>provide a branded centerpiece and 10 guest gifts</strong></span>&nbsp\;that highlight your business\, values\, and services. This shift not only reduces setup time and waste but also puts the focus where it belongs &mdash\;&nbsp\;<strong>on the excellence of your brand and its impact!</strong><br />\n<span style="color: black\;">We know many of our members are navigatin</span><span style="color: black\;">g tighter budgets and smaller teams. These updates are designed to make participation&nbsp\;<strong>more accessible\, meaningful\, and environmentally conscious\,&nbsp\;</strong></span>while still keeping the spirit of celebration and creativity alive!<br />\n<br />\n&nbsp\; &nbsp\; &nbsp\; &nbsp\; &nbsp\; &nbsp\; &nbsp\; &nbsp\; &nbsp\; &nbsp\; &nbsp\; &nbsp\; &nbsp\; &nbsp\; &nbsp\; &nbsp\; &nbsp\; &nbsp\; &nbsp\; &nbsp\; &nbsp\; &nbsp\; &nbsp\; &nbsp\; &nbsp\; &nbsp\;&nbsp\;</span></span>&nbsp\;&nbsp\;&nbsp\;&nbsp\;<br />\n<u><strong><span style="font-family: verdana\;"><span style="font-size: 14px\;">MENU TBD</span></span></strong></u>
LOCATION:Hyatt Regency 1 Old Golf Course Road Monterey\, California 93940
UID:e.2711.15867
SEQUENCE:3
DTSTAMP:20260422T113719Z
URL:https://members.montereychamber.com/events/details/annual-business-excellence-awards-15867
END:VEVENT

END:VCALENDAR
