BEGIN:VCALENDAR
VERSION:2.0
PRODID:-//ChamberMaster//Event Calendar 2.0//EN
METHOD:PUBLISH
X-PUBLISHED-TTL:P3D
REFRESH-INTERVAL:P3D
CALSCALE:GREGORIAN
BEGIN:VEVENT
DTSTART:20230328T233000Z
DTEND:20230329T010000Z
X-MICROSOFT-CDO-ALLDAYEVENT:FALSE
SUMMARY:Fairview Laguna Seca Mixer
DESCRIPTION:Join us for the Fairview Laguna Seca mixer! Enjoy refreshments and giveaways. There will be a cash bar and business card drawing for comp foursome golf & $500 off of a party.\n\nBeautiful space and views.\n\n$10 Members / $20.00 Non-Members\n\n\n\nFairview Laguna Seca is Monterey's newest wedding venue\, complete with a fully renovated banquet space\, modern amenities\, beautiful and contemporary decor\, and several all-inclusive wedding packages designed to make your wedding a breeze. Enjoy amazing\, picturesque views of rolling green hills that showcase a rustic\, yet modern charm.
X-ALT-DESC;FMTTYPE=text/html:Join us for the Fairview Laguna Seca mixer! Enjoy refreshments and giveaways. There will be a cash bar and business card drawing for comp foursome golf &amp\; $500 off of a party.<br />\nBeautiful space and views.<br />\n$10 Members / $20.00 Non-Members<br />\n<br />\nFairview Laguna Seca is Monterey&#39\;s newest wedding venue\, complete with a fully renovated banquet space\, modern amenities\, beautiful and contemporary decor\, and several all-inclusive wedding packages designed to make your wedding a breeze. Enjoy amazing\, picturesque views of rolling green hills that showcase a rustic\, yet modern charm.&nbsp\;
LOCATION:10520 York Road Monterey\, CA. 9394O
UID:e.2711.8045
SEQUENCE:3
DTSTAMP:20260426T031647Z
URL:https://members.montereychamber.com/events/details/fairview-laguna-seca-mixer-8045
END:VEVENT

END:VCALENDAR
