BEGIN:VCALENDAR
VERSION:2.0
PRODID:-//ChamberMaster//Event Calendar 2.0//EN
METHOD:PUBLISH
X-PUBLISHED-TTL:P3D
REFRESH-INTERVAL:P3D
CALSCALE:GREGORIAN
BEGIN:VEVENT
DTSTART:20200913T000000Z
DTEND:20200913T020000Z
X-MICROSOFT-CDO-ALLDAYEVENT:FALSE
SUMMARY:Mum's Place's 33rd Anniversary Party!!
DESCRIPTION:Please join us for live entertainment\, refreshments\, and hors d'oeuvres\, proudly celebrating 33 years here at Mum's Place!
X-ALT-DESC;FMTTYPE=text/html:Please join us for live entertainment\, refreshments\, and hors d&#39\;oeuvres\, proudly celebrating 33 years here at Mum&#39\;s Place!
LOCATION:Mum's Place: 246 Forest Ave\, Pacific Grove\, CA 93950
UID:e.2711.6660
SEQUENCE:3
DTSTAMP:20260424T162743Z
URL:https://members.montereychamber.com/events/details/mum-s-place-s-33rd-anniversary-party-09-12-2020-6660
END:VEVENT

END:VCALENDAR
