BEGIN:VCALENDAR
VERSION:2.0
PRODID:-//ChamberMaster//Event Calendar 2.0//EN
METHOD:PUBLISH
X-PUBLISHED-TTL:P3D
REFRESH-INTERVAL:P3D
CALSCALE:GREGORIAN
BEGIN:VEVENT
DTSTART:20270701T010000Z
DTEND:20270701T030000Z
X-MICROSOFT-CDO-ALLDAYEVENT:FALSE
SUMMARY:Paint the Town!
DESCRIPTION:Join us at Mission Mortuary for an easy to follow instructional paint night. Everyone will leave with their own 11x14 Masterpiece version of the "Girl in the Rain". Enjoy a free night out with wine\, cheese\, sparkling cider\, art\, and camaraderie.
X-ALT-DESC;FMTTYPE=text/html:<span style="font-size:16px">Join us at Mission Mortuary for an easy to follow instructional paint night. Everyone will leave with their own 11x14 Masterpiece version of the &quot\;Girl in the Rain&quot\;. Enjoy a free night out with wine\, cheese\, sparkling cider\, art\, and camaraderie.</span>
LOCATION:450 Camino El Estero\, Ca. 93940 (across from Dennis the Menace Park)
UID:e.2711.1580
SEQUENCE:3
DTSTAMP:20260423T052550Z
URL:https://members.montereychamber.com/events/details/paint-the-town-06-30-2027-1580
END:VEVENT

END:VCALENDAR
